BEGIN:VCALENDAR
VERSION:2.0
PRODID:-//Greene County, New York - ECPv6.15.17.1//NONSGML v1.0//EN
CALSCALE:GREGORIAN
METHOD:PUBLISH
X-WR-CALNAME:Greene County, New York
X-ORIGINAL-URL:https://greenecountyny.gov
X-WR-CALDESC:Events for Greene County, New York
REFRESH-INTERVAL;VALUE=DURATION:PT1H
X-Robots-Tag:noindex
X-PUBLISHED-TTL:PT1H
BEGIN:VTIMEZONE
TZID:America/New_York
BEGIN:DAYLIGHT
TZOFFSETFROM:-0500
TZOFFSETTO:-0400
TZNAME:EDT
DTSTART:20220313T070000
END:DAYLIGHT
BEGIN:STANDARD
TZOFFSETFROM:-0400
TZOFFSETTO:-0500
TZNAME:EST
DTSTART:20221106T060000
END:STANDARD
BEGIN:DAYLIGHT
TZOFFSETFROM:-0500
TZOFFSETTO:-0400
TZNAME:EDT
DTSTART:20230312T070000
END:DAYLIGHT
BEGIN:STANDARD
TZOFFSETFROM:-0400
TZOFFSETTO:-0500
TZNAME:EST
DTSTART:20231105T060000
END:STANDARD
BEGIN:DAYLIGHT
TZOFFSETFROM:-0500
TZOFFSETTO:-0400
TZNAME:EDT
DTSTART:20240310T070000
END:DAYLIGHT
BEGIN:STANDARD
TZOFFSETFROM:-0400
TZOFFSETTO:-0500
TZNAME:EST
DTSTART:20241103T060000
END:STANDARD
END:VTIMEZONE
BEGIN:VEVENT
DTSTART;TZID=America/New_York:20231018T182500
DTEND;TZID=America/New_York:20231018T182500
DTSTAMP:20260419T140901
CREATED:20230929T004102Z
LAST-MODIFIED:20250716T153227Z
UID:10000459-1697653500-1697653500@greenecountyny.gov
SUMMARY:6:25 P.M. - PUBLIC HEARING - LL #5 OF 2023 - MORTGAGE TAX
DESCRIPTION:
URL:https://greenecountyny.gov/event/625-p-m-public-hearing-ll-5-of-2023-mortgage-tax/
LOCATION:Frank P. Stabile\, Jr. Legislative Chambers\, 411 Main Street\, Suite 403\, Catskill\, NY\, 12414\, United States
CATEGORIES:Legislature,Public Hearings
END:VEVENT
BEGIN:VEVENT
DTSTART;TZID=America/New_York:20231025T100000
DTEND;TZID=America/New_York:20231025T113000
DTSTAMP:20260419T140901
CREATED:20231005T230817Z
LAST-MODIFIED:20250716T153228Z
UID:10000460-1698228000-1698233400@greenecountyny.gov
SUMMARY:Civil Service Public Hearing and Monthly Meeting
DESCRIPTION:
URL:https://greenecountyny.gov/event/civil-service-public-hearing-and-monthly-meeting/
LOCATION:Greene County Civil Service Office\, 3rd Floor\, County Office Building\, 411 Main Street\, Suite 340\, Catskill\, NY\, 12413\, United States
CATEGORIES:Civil Service,Public Hearings,Public Meetings
GEO:42.2118604;-73.8572517
X-APPLE-STRUCTURED-LOCATION;VALUE=URI;X-ADDRESS=Greene County Civil Service Office 3rd Floor County Office Building 411 Main Street Suite 340 Catskill NY 12413 United States;X-APPLE-RADIUS=500;X-TITLE=411 Main Street\, Suite 340:geo:-73.8572517,42.2118604
END:VEVENT
BEGIN:VEVENT
DTSTART;TZID=America/New_York:20231030T180000
DTEND;TZID=America/New_York:20231030T180000
DTSTAMP:20260419T140901
CREATED:20230929T003538Z
LAST-MODIFIED:20250716T153227Z
UID:10000458-1698688800-1698688800@greenecountyny.gov
SUMMARY:6:00 P.M. PUBLIC HEARING\, TENT. 2024 COUNTY BUDGET (CATSKILL MIDDLE SCHOOL AUDITORIUM)
DESCRIPTION:
URL:https://greenecountyny.gov/event/600-p-m-public-hearing-tent-2024-county-budget-catskill-middle-school-auditorium/
LOCATION:Catskill Middle School Auditorium\, 345 West Main Street\, Catskill\, NY\, 12414\, United States
CATEGORIES:Legislature,Public Hearings
END:VEVENT
END:VCALENDAR