BEGIN:VCALENDAR
VERSION:2.0
PRODID:-//Greene County, New York - ECPv6.15.17.1//NONSGML v1.0//EN
CALSCALE:GREGORIAN
METHOD:PUBLISH
X-ORIGINAL-URL:https://greenecountyny.gov
X-WR-CALDESC:Events for Greene County, New York
REFRESH-INTERVAL;VALUE=DURATION:PT1H
X-Robots-Tag:noindex
X-PUBLISHED-TTL:PT1H
BEGIN:VTIMEZONE
TZID:America/New_York
BEGIN:DAYLIGHT
TZOFFSETFROM:-0500
TZOFFSETTO:-0400
TZNAME:EDT
DTSTART:20220313T070000
END:DAYLIGHT
BEGIN:STANDARD
TZOFFSETFROM:-0400
TZOFFSETTO:-0500
TZNAME:EST
DTSTART:20221106T060000
END:STANDARD
BEGIN:DAYLIGHT
TZOFFSETFROM:-0500
TZOFFSETTO:-0400
TZNAME:EDT
DTSTART:20230312T070000
END:DAYLIGHT
BEGIN:STANDARD
TZOFFSETFROM:-0400
TZOFFSETTO:-0500
TZNAME:EST
DTSTART:20231105T060000
END:STANDARD
BEGIN:DAYLIGHT
TZOFFSETFROM:-0500
TZOFFSETTO:-0400
TZNAME:EDT
DTSTART:20240310T070000
END:DAYLIGHT
BEGIN:STANDARD
TZOFFSETFROM:-0400
TZOFFSETTO:-0500
TZNAME:EST
DTSTART:20241103T060000
END:STANDARD
END:VTIMEZONE
BEGIN:VEVENT
DTSTART;TZID=America/New_York:20231118T190000
DTEND;TZID=America/New_York:20231118T203000
DTSTAMP:20260419T140010
CREATED:20250716T184837Z
LAST-MODIFIED:20250716T185238Z
UID:10000906-1700334000-1700339400@greenecountyny.gov
SUMMARY:Greene County Fire Advisory Board Meeting
DESCRIPTION:
URL:https://greenecountyny.gov/event/greene-county-fire-advisor-board-meeting/2023-11-18/
LOCATION:Greene County Emergency Control and Training Center\, 25 Volunteer Drive\, Cairo\, NY\, 12413\, United States
CATEGORIES:Emergency Services,Public Meetings
GEO:42.2945111;-74.0005786
X-APPLE-STRUCTURED-LOCATION;VALUE=URI;X-ADDRESS=Greene County Emergency Control and Training Center 25 Volunteer Drive Cairo NY 12413 United States;X-APPLE-RADIUS=500;X-TITLE=25 Volunteer Drive:geo:-74.0005786,42.2945111
END:VEVENT
BEGIN:VEVENT
DTSTART;TZID=America/New_York:20231120T180000
DTEND;TZID=America/New_York:20231120T180000
DTSTAMP:20260419T140010
CREATED:20231116T202042Z
LAST-MODIFIED:20250716T153229Z
UID:10000464-1700503200-1700503200@greenecountyny.gov
SUMMARY:6:00 P.M. - MEETINGS - SPECIAL PUBLIC SAFETY; SPECIAL FINANCE; SPECIAL LEGISLATURE MEETING NO. 4
DESCRIPTION:
URL:https://greenecountyny.gov/event/600-p-m-meetings-special-public-safety-special-finance-special-legislature-meeting-no-4/
LOCATION:Frank P. Stabile\, Jr. Legislative Chambers\, 411 Main Street\, Suite 403\, Catskill\, NY\, 12414\, United States
CATEGORIES:Committee Meetings,Legislature,Public Meetings
END:VEVENT
BEGIN:VEVENT
DTSTART;TZID=America/New_York:20231129T100000
DTEND;TZID=America/New_York:20231129T110000
DTSTAMP:20260419T140010
CREATED:20231026T152123Z
LAST-MODIFIED:20250716T153229Z
UID:10000462-1701252000-1701255600@greenecountyny.gov
SUMMARY:Civil Service Commission Meeting
DESCRIPTION:
URL:https://greenecountyny.gov/event/civil-service-commission-meeting-35/
LOCATION:Greene County Civil Service Office\, 3rd Floor\, County Office Building\, 411 Main Street\, Suite 340\, Catskill\, NY\, 12413\, United States
CATEGORIES:Civil Service,Public Meetings
GEO:42.2118604;-73.8572517
X-APPLE-STRUCTURED-LOCATION;VALUE=URI;X-ADDRESS=Greene County Civil Service Office 3rd Floor County Office Building 411 Main Street Suite 340 Catskill NY 12413 United States;X-APPLE-RADIUS=500;X-TITLE=411 Main Street\, Suite 340:geo:-73.8572517,42.2118604
END:VEVENT
END:VCALENDAR