BEGIN:VCALENDAR
VERSION:2.0
PRODID:-//Greene County, New York - ECPv6.15.17.1//NONSGML v1.0//EN
CALSCALE:GREGORIAN
METHOD:PUBLISH
X-WR-CALNAME:Greene County, New York
X-ORIGINAL-URL:https://greenecountyny.gov
X-WR-CALDESC:Events for Greene County, New York
REFRESH-INTERVAL;VALUE=DURATION:PT1H
X-Robots-Tag:noindex
X-PUBLISHED-TTL:PT1H
BEGIN:VTIMEZONE
TZID:America/New_York
BEGIN:DAYLIGHT
TZOFFSETFROM:-0500
TZOFFSETTO:-0400
TZNAME:EDT
DTSTART:20270314T070000
END:DAYLIGHT
BEGIN:STANDARD
TZOFFSETFROM:-0400
TZOFFSETTO:-0500
TZNAME:EST
DTSTART:20271107T060000
END:STANDARD
BEGIN:DAYLIGHT
TZOFFSETFROM:-0500
TZOFFSETTO:-0400
TZNAME:EDT
DTSTART:20280312T070000
END:DAYLIGHT
BEGIN:STANDARD
TZOFFSETFROM:-0400
TZOFFSETTO:-0500
TZNAME:EST
DTSTART:20281105T060000
END:STANDARD
BEGIN:DAYLIGHT
TZOFFSETFROM:-0500
TZOFFSETTO:-0400
TZNAME:EDT
DTSTART:20290311T070000
END:DAYLIGHT
BEGIN:STANDARD
TZOFFSETFROM:-0400
TZOFFSETTO:-0500
TZNAME:EST
DTSTART:20291104T060000
END:STANDARD
END:VTIMEZONE
BEGIN:VEVENT
DTSTART;TZID=America/New_York:20280906T150000
DTEND;TZID=America/New_York:20280906T180000
DTSTAMP:20260419T171311
CREATED:20230822T231516Z
LAST-MODIFIED:20250716T153226Z
UID:10000359-1851865200-1851876000@greenecountyny.gov
SUMMARY:Family Planning Walk-In Clinic (Teens Welcome)
DESCRIPTION:CONFIDENTIAL Free or Low-Cost Access to All Available Family Planning Services. Teens Welcome – No Appointment Necessary \n 
URL:https://greenecountyny.gov/event/family-planning-walk-in-clinic-teens-welcome-2-2-2/2028-09-06/
LOCATION:Greene County Family Planning\, 411 Main Street\, 3rd Floor\, Catskill\, NY\, 12414\, United States
CATEGORIES:Public Health
GEO:42.2118604;-73.8572517
X-APPLE-STRUCTURED-LOCATION;VALUE=URI;X-ADDRESS=Greene County Family Planning 411 Main Street 3rd Floor Catskill NY 12414 United States;X-APPLE-RADIUS=500;X-TITLE=411 Main Street\, 3rd Floor:geo:-73.8572517,42.2118604
END:VEVENT
BEGIN:VEVENT
DTSTART;TZID=America/New_York:20280906T160000
DTEND;TZID=America/New_York:20280906T170000
DTSTAMP:20260419T171311
CREATED:20250124T204711Z
LAST-MODIFIED:20250716T153330Z
UID:10000683-1851868800-1851872400@greenecountyny.gov
SUMMARY:Greene County Economic Development Corporation Meeting
DESCRIPTION:Watch Live on YouTube
URL:https://greenecountyny.gov/event/economic-development-corporation-meeting-7/2028-09-06/
LOCATION:Greene County Economic Development\, Tourism & Planning Conference Room\, 411 Main Street\, Suite 419\, Catskill\, 12414\, United States
CATEGORIES:Public Meetings
ORGANIZER;CN="Greene County Economic Dev. Corporation":MAILTO:vkeyser@greenecountyny.gov
END:VEVENT
BEGIN:VEVENT
DTSTART;TZID=America/New_York:20280913T150000
DTEND;TZID=America/New_York:20280913T180000
DTSTAMP:20260419T171311
CREATED:20230822T231516Z
LAST-MODIFIED:20250716T153226Z
UID:10000360-1852470000-1852480800@greenecountyny.gov
SUMMARY:Family Planning Walk-In Clinic (Teens Welcome)
DESCRIPTION:CONFIDENTIAL Free or Low-Cost Access to All Available Family Planning Services. Teens Welcome – No Appointment Necessary \n 
URL:https://greenecountyny.gov/event/family-planning-walk-in-clinic-teens-welcome-2-2-2/2028-09-13/
LOCATION:Greene County Family Planning\, 411 Main Street\, 3rd Floor\, Catskill\, NY\, 12414\, United States
CATEGORIES:Public Health
GEO:42.2118604;-73.8572517
X-APPLE-STRUCTURED-LOCATION;VALUE=URI;X-ADDRESS=Greene County Family Planning 411 Main Street 3rd Floor Catskill NY 12414 United States;X-APPLE-RADIUS=500;X-TITLE=411 Main Street\, 3rd Floor:geo:-73.8572517,42.2118604
END:VEVENT
BEGIN:VEVENT
DTSTART;TZID=America/New_York:20280919T100000
DTEND;TZID=America/New_York:20280919T120000
DTSTAMP:20260419T171311
CREATED:20250721T191417Z
LAST-MODIFIED:20250721T191417Z
UID:10000928-1852970400-1852977600@greenecountyny.gov
SUMMARY:Tourism Advisory Committee – T.A.C.
DESCRIPTION:
URL:https://greenecountyny.gov/event/tourism-advisory-committee-t-a-c/2028-09-19/
LOCATION:Various Meeting Places\, NY\, United States
CATEGORIES:Economic Development Tourism and Planning,Public Meetings
GEO:42.219962;-73.8662209
END:VEVENT
BEGIN:VEVENT
DTSTART;TZID=America/New_York:20280920T100000
DTEND;TZID=America/New_York:20280920T110000
DTSTAMP:20260419T171311
CREATED:20241221T014731Z
LAST-MODIFIED:20250916T183129Z
UID:10000618-1853056800-1853060400@greenecountyny.gov
SUMMARY:Greene County Planning Board Meeting
DESCRIPTION:
URL:https://greenecountyny.gov/event/greene-county-planning-board-meeting/2028-09-20/
LOCATION:Greene County Economic Development\, Tourism & Planning Conference Room\, 411 Main Street\, Suite 419\, Catskill\, 12414\, United States
ORGANIZER;CN="Greene County Economic Dev. Corporation":MAILTO:vkeyser@greenecountyny.gov
END:VEVENT
BEGIN:VEVENT
DTSTART;TZID=America/New_York:20280920T150000
DTEND;TZID=America/New_York:20280920T180000
DTSTAMP:20260419T171311
CREATED:20230822T231516Z
LAST-MODIFIED:20250716T153226Z
UID:10000361-1853074800-1853085600@greenecountyny.gov
SUMMARY:Family Planning Walk-In Clinic (Teens Welcome)
DESCRIPTION:CONFIDENTIAL Free or Low-Cost Access to All Available Family Planning Services. Teens Welcome – No Appointment Necessary \n 
URL:https://greenecountyny.gov/event/family-planning-walk-in-clinic-teens-welcome-2-2-2/2028-09-20/
LOCATION:Greene County Family Planning\, 411 Main Street\, 3rd Floor\, Catskill\, NY\, 12414\, United States
CATEGORIES:Public Health
GEO:42.2118604;-73.8572517
X-APPLE-STRUCTURED-LOCATION;VALUE=URI;X-ADDRESS=Greene County Family Planning 411 Main Street 3rd Floor Catskill NY 12414 United States;X-APPLE-RADIUS=500;X-TITLE=411 Main Street\, 3rd Floor:geo:-73.8572517,42.2118604
END:VEVENT
BEGIN:VEVENT
DTSTART;TZID=America/New_York:20280927T150000
DTEND;TZID=America/New_York:20280927T180000
DTSTAMP:20260419T171311
CREATED:20230822T231516Z
LAST-MODIFIED:20250716T153226Z
UID:10000362-1853679600-1853690400@greenecountyny.gov
SUMMARY:Family Planning Walk-In Clinic (Teens Welcome)
DESCRIPTION:CONFIDENTIAL Free or Low-Cost Access to All Available Family Planning Services. Teens Welcome – No Appointment Necessary \n 
URL:https://greenecountyny.gov/event/family-planning-walk-in-clinic-teens-welcome-2-2-2/2028-09-27/
LOCATION:Greene County Family Planning\, 411 Main Street\, 3rd Floor\, Catskill\, NY\, 12414\, United States
CATEGORIES:Public Health
GEO:42.2118604;-73.8572517
X-APPLE-STRUCTURED-LOCATION;VALUE=URI;X-ADDRESS=Greene County Family Planning 411 Main Street 3rd Floor Catskill NY 12414 United States;X-APPLE-RADIUS=500;X-TITLE=411 Main Street\, 3rd Floor:geo:-73.8572517,42.2118604
END:VEVENT
END:VCALENDAR