BEGIN:VCALENDAR
VERSION:2.0
PRODID:-//Greene County, New York - ECPv6.15.17.1//NONSGML v1.0//EN
CALSCALE:GREGORIAN
METHOD:PUBLISH
X-WR-CALNAME:Greene County, New York
X-ORIGINAL-URL:https://greenecountyny.gov
X-WR-CALDESC:Events for Greene County, New York
REFRESH-INTERVAL;VALUE=DURATION:PT1H
X-Robots-Tag:noindex
X-PUBLISHED-TTL:PT1H
BEGIN:VTIMEZONE
TZID:America/New_York
BEGIN:DAYLIGHT
TZOFFSETFROM:-0500
TZOFFSETTO:-0400
TZNAME:EDT
DTSTART:20270314T070000
END:DAYLIGHT
BEGIN:STANDARD
TZOFFSETFROM:-0400
TZOFFSETTO:-0500
TZNAME:EST
DTSTART:20271107T060000
END:STANDARD
BEGIN:DAYLIGHT
TZOFFSETFROM:-0500
TZOFFSETTO:-0400
TZNAME:EDT
DTSTART:20280312T070000
END:DAYLIGHT
BEGIN:STANDARD
TZOFFSETFROM:-0400
TZOFFSETTO:-0500
TZNAME:EST
DTSTART:20281105T060000
END:STANDARD
BEGIN:DAYLIGHT
TZOFFSETFROM:-0500
TZOFFSETTO:-0400
TZNAME:EDT
DTSTART:20290311T070000
END:DAYLIGHT
BEGIN:STANDARD
TZOFFSETFROM:-0400
TZOFFSETTO:-0500
TZNAME:EST
DTSTART:20291104T060000
END:STANDARD
END:VTIMEZONE
BEGIN:VEVENT
DTSTART;TZID=America/New_York:20281101T150000
DTEND;TZID=America/New_York:20281101T180000
DTSTAMP:20260419T183615
CREATED:20230822T231516Z
LAST-MODIFIED:20250716T153226Z
UID:10000367-1856703600-1856714400@greenecountyny.gov
SUMMARY:Family Planning Walk-In Clinic (Teens Welcome)
DESCRIPTION:CONFIDENTIAL Free or Low-Cost Access to All Available Family Planning Services. Teens Welcome – No Appointment Necessary \n 
URL:https://greenecountyny.gov/event/family-planning-walk-in-clinic-teens-welcome-2-2-2/2028-11-01/
LOCATION:Greene County Family Planning\, 411 Main Street\, 3rd Floor\, Catskill\, NY\, 12414\, United States
CATEGORIES:Public Health
GEO:42.2118604;-73.8572517
X-APPLE-STRUCTURED-LOCATION;VALUE=URI;X-ADDRESS=Greene County Family Planning 411 Main Street 3rd Floor Catskill NY 12414 United States;X-APPLE-RADIUS=500;X-TITLE=411 Main Street\, 3rd Floor:geo:-73.8572517,42.2118604
END:VEVENT
BEGIN:VEVENT
DTSTART;TZID=America/New_York:20281101T160000
DTEND;TZID=America/New_York:20281101T170000
DTSTAMP:20260419T183615
CREATED:20250124T204711Z
LAST-MODIFIED:20250716T153330Z
UID:10000685-1856707200-1856710800@greenecountyny.gov
SUMMARY:Greene County Economic Development Corporation Meeting
DESCRIPTION:Watch Live on YouTube
URL:https://greenecountyny.gov/event/economic-development-corporation-meeting-7/2028-11-01/
LOCATION:Greene County Economic Development\, Tourism & Planning Conference Room\, 411 Main Street\, Suite 419\, Catskill\, 12414\, United States
CATEGORIES:Public Meetings
ORGANIZER;CN="Greene County Economic Dev. Corporation":MAILTO:vkeyser@greenecountyny.gov
END:VEVENT
BEGIN:VEVENT
DTSTART;TZID=America/New_York:20281108T150000
DTEND;TZID=America/New_York:20281108T180000
DTSTAMP:20260419T183615
CREATED:20230822T231516Z
LAST-MODIFIED:20250716T153226Z
UID:10000368-1857308400-1857319200@greenecountyny.gov
SUMMARY:Family Planning Walk-In Clinic (Teens Welcome)
DESCRIPTION:CONFIDENTIAL Free or Low-Cost Access to All Available Family Planning Services. Teens Welcome – No Appointment Necessary \n 
URL:https://greenecountyny.gov/event/family-planning-walk-in-clinic-teens-welcome-2-2-2/2028-11-08/
LOCATION:Greene County Family Planning\, 411 Main Street\, 3rd Floor\, Catskill\, NY\, 12414\, United States
CATEGORIES:Public Health
GEO:42.2118604;-73.8572517
X-APPLE-STRUCTURED-LOCATION;VALUE=URI;X-ADDRESS=Greene County Family Planning 411 Main Street 3rd Floor Catskill NY 12414 United States;X-APPLE-RADIUS=500;X-TITLE=411 Main Street\, 3rd Floor:geo:-73.8572517,42.2118604
END:VEVENT
BEGIN:VEVENT
DTSTART;TZID=America/New_York:20281115T100000
DTEND;TZID=America/New_York:20281115T110000
DTSTAMP:20260419T183615
CREATED:20241221T014731Z
LAST-MODIFIED:20250916T183129Z
UID:10000620-1857895200-1857898800@greenecountyny.gov
SUMMARY:Greene County Planning Board Meeting
DESCRIPTION:
URL:https://greenecountyny.gov/event/greene-county-planning-board-meeting/2028-11-15/
LOCATION:Greene County Economic Development\, Tourism & Planning Conference Room\, 411 Main Street\, Suite 419\, Catskill\, 12414\, United States
ORGANIZER;CN="Greene County Economic Dev. Corporation":MAILTO:vkeyser@greenecountyny.gov
END:VEVENT
BEGIN:VEVENT
DTSTART;TZID=America/New_York:20281115T150000
DTEND;TZID=America/New_York:20281115T180000
DTSTAMP:20260419T183615
CREATED:20230822T231516Z
LAST-MODIFIED:20250716T153226Z
UID:10000369-1857913200-1857924000@greenecountyny.gov
SUMMARY:Family Planning Walk-In Clinic (Teens Welcome)
DESCRIPTION:CONFIDENTIAL Free or Low-Cost Access to All Available Family Planning Services. Teens Welcome – No Appointment Necessary \n 
URL:https://greenecountyny.gov/event/family-planning-walk-in-clinic-teens-welcome-2-2-2/2028-11-15/
LOCATION:Greene County Family Planning\, 411 Main Street\, 3rd Floor\, Catskill\, NY\, 12414\, United States
CATEGORIES:Public Health
GEO:42.2118604;-73.8572517
X-APPLE-STRUCTURED-LOCATION;VALUE=URI;X-ADDRESS=Greene County Family Planning 411 Main Street 3rd Floor Catskill NY 12414 United States;X-APPLE-RADIUS=500;X-TITLE=411 Main Street\, 3rd Floor:geo:-73.8572517,42.2118604
END:VEVENT
BEGIN:VEVENT
DTSTART;TZID=America/New_York:20281122T150000
DTEND;TZID=America/New_York:20281122T180000
DTSTAMP:20260419T183615
CREATED:20230822T231516Z
LAST-MODIFIED:20250716T153226Z
UID:10000370-1858518000-1858528800@greenecountyny.gov
SUMMARY:Family Planning Walk-In Clinic (Teens Welcome)
DESCRIPTION:CONFIDENTIAL Free or Low-Cost Access to All Available Family Planning Services. Teens Welcome – No Appointment Necessary \n 
URL:https://greenecountyny.gov/event/family-planning-walk-in-clinic-teens-welcome-2-2-2/2028-11-22/
LOCATION:Greene County Family Planning\, 411 Main Street\, 3rd Floor\, Catskill\, NY\, 12414\, United States
CATEGORIES:Public Health
GEO:42.2118604;-73.8572517
X-APPLE-STRUCTURED-LOCATION;VALUE=URI;X-ADDRESS=Greene County Family Planning 411 Main Street 3rd Floor Catskill NY 12414 United States;X-APPLE-RADIUS=500;X-TITLE=411 Main Street\, 3rd Floor:geo:-73.8572517,42.2118604
END:VEVENT
BEGIN:VEVENT
DTSTART;TZID=America/New_York:20281129T150000
DTEND;TZID=America/New_York:20281129T180000
DTSTAMP:20260419T183615
CREATED:20230822T231516Z
LAST-MODIFIED:20250716T153226Z
UID:10000371-1859122800-1859133600@greenecountyny.gov
SUMMARY:Family Planning Walk-In Clinic (Teens Welcome)
DESCRIPTION:CONFIDENTIAL Free or Low-Cost Access to All Available Family Planning Services. Teens Welcome – No Appointment Necessary \n 
URL:https://greenecountyny.gov/event/family-planning-walk-in-clinic-teens-welcome-2-2-2/2028-11-29/
LOCATION:Greene County Family Planning\, 411 Main Street\, 3rd Floor\, Catskill\, NY\, 12414\, United States
CATEGORIES:Public Health
GEO:42.2118604;-73.8572517
X-APPLE-STRUCTURED-LOCATION;VALUE=URI;X-ADDRESS=Greene County Family Planning 411 Main Street 3rd Floor Catskill NY 12414 United States;X-APPLE-RADIUS=500;X-TITLE=411 Main Street\, 3rd Floor:geo:-73.8572517,42.2118604
END:VEVENT
END:VCALENDAR